BEGIN:VCALENDAR
VERSION:2.0
PRODID:icalendar-ruby
CALSCALE:GREGORIAN
METHOD:PUBLISH
BEGIN:VEVENT
DTSTAMP:20260419T123755Z
UID:5-388232@livinggateway.tithelysetup2.com
DTSTART:20260823T143000Z
DTEND:20260823T153000Z
CLASS:PUBLIC
CREATED:20260419T041815
DESCRIPTION:Sunday Worship
LAST-MODIFIED:20260419T041815
LOCATION:Living Gateway Church Sanctuary
SUMMARY:Awakening Prayer
URL;VALUE=URI:https://livinggateway.tithelysetup2.com/events/awakening-pray
 er/2026-08-23
END:VEVENT
END:VCALENDAR
