BEGIN:VCALENDAR
VERSION:2.0
PRODID:icalendar-ruby
CALSCALE:GREGORIAN
METHOD:PUBLISH
BEGIN:VEVENT
DTSTAMP:20260419T140948Z
UID:5-388478@livinggateway.tithelysetup2.com
DTSTART:20260830T143000Z
DTEND:20260830T153000Z
CLASS:PUBLIC
CREATED:20260419T094237
DESCRIPTION:Sunday Worship
LAST-MODIFIED:20260419T094237
LOCATION:Living Gateway Church Sanctuary
SUMMARY:Awakening Prayer
URL;VALUE=URI:https://livinggateway.tithelysetup2.com/events/awakening-pray
 er/2026-08-30
END:VEVENT
END:VCALENDAR
