BEGIN:VCALENDAR
VERSION:2.0
PRODID:icalendar-ruby
CALSCALE:GREGORIAN
METHOD:PUBLISH
BEGIN:VEVENT
DTSTAMP:20260419T220937Z
UID:5-388975@livinggateway.tithelysetup2.com
DTSTART:20261011T143000Z
DTEND:20261011T153000Z
CLASS:PUBLIC
CREATED:20260419T170658
DESCRIPTION:Sunday Worship
LAST-MODIFIED:20260419T170658
LOCATION:Living Gateway Church Sanctuary
SUMMARY:Awakening Prayer
URL;VALUE=URI:https://livinggateway.tithelysetup2.com/events/awakening-pray
 er/2026-10-11
END:VEVENT
END:VCALENDAR
