BEGIN:VCALENDAR
VERSION:2.0
PRODID:icalendar-ruby
CALSCALE:GREGORIAN
METHOD:PUBLISH
BEGIN:VEVENT
DTSTAMP:20260420T022753Z
UID:5-389224@livinggateway.tithelysetup2.com
DTSTART:20261101T153000Z
DTEND:20261101T163000Z
CLASS:PUBLIC
CREATED:20260419T204840
DESCRIPTION:Sunday Worship
LAST-MODIFIED:20260419T204840
LOCATION:Living Gateway Church Sanctuary
SUMMARY:Awakening Prayer
URL;VALUE=URI:https://livinggateway.tithelysetup2.com/events/awakening-pray
 er/2026-11-01
END:VEVENT
END:VCALENDAR
